BEGIN:VCALENDAR
VERSION:2.0
PRODID:-//Contratero//ES
CALSCALE:GREGORIAN
METHOD:PUBLISH
BEGIN:VEVENT
UID:FMV/SG/NO SARA P.AB.URG. 13/2020@contratero.es
DTSTAMP:20260422T134248Z
DTSTART:20200924T235959
DTEND:20200925T005959
SUMMARY:Cierre: Contrato de servicio para la gestión integral de l
DESCRIPTION:Contrato de servicio para la gestión integral de los procesos selectivos de personal de la Fundación Marqués de Valdecilla.\\n\\nOrganismo: Gerencia de la Fundación Marqués de Valdecilla\\n\\nVer en Contratero: https://contratero.es/contracts/FMV/SG/NO SARA P.AB.URG. 13/2020
URL:https://contratero.es/contracts/FMV/SG/NO SARA P.AB.URG. 13/2020
STATUS:CONFIRMED
BEGIN:VALARM
TRIGGER:-P1D
ACTION:DISPLAY
DESCRIPTION:Recordatorio: Contrato de servicio para la g
END:VALARM
END:VEVENT
END:VCALENDAR